BEGIN:VCALENDAR
VERSION:2.0
PRODID:icalendar-ruby
CALSCALE:GREGORIAN
METHOD:PUBLISH
BEGIN:VEVENT
DTSTAMP:20260422T020202Z
UID:91-831192@calvaryhbg.org
DTSTART:20260913T150000Z
DTEND:20260913T160000Z
CLASS:PUBLIC
CREATED:20260421T203329
DESCRIPTION:
LAST-MODIFIED:20260421T203329
LOCATION:
SUMMARY:Sunday Worship
URL;VALUE=URI:https://www.calvaryhbg.org/events/sunday-worship--91/2026-09-
 13
ATTACH;FILENAME=2022-Lent-and-Easter.jpg;FMTTYPE=image/jpeg:https://dq5pwpg
 1q8ru0.cloudfront.net/2025/09/02/14/03/25/30102dc8-3889-4882-9a27-13e84ba4
 9813/2022-Lent-and-Easter.jpg
END:VEVENT
END:VCALENDAR
