BEGIN:VCALENDAR
VERSION:2.0
PRODID:icalendar-ruby
CALSCALE:GREGORIAN
METHOD:PUBLISH
BEGIN:VEVENT
DTSTAMP:20260424T101919Z
UID:91-838901@calvaryhbg.org
DTSTART:20261101T160000Z
DTEND:20261101T170000Z
CLASS:PUBLIC
CREATED:20260423T220844
DESCRIPTION:
LAST-MODIFIED:20260423T220844
LOCATION:
SUMMARY:Sunday Worship
URL;VALUE=URI:https://www.calvaryhbg.org/events/sunday-worship--91/2026-11-
 01
ATTACH;FILENAME=2022-Lent-and-Easter.jpg;FMTTYPE=image/jpeg:https://dq5pwpg
 1q8ru0.cloudfront.net/2025/09/02/14/03/25/30102dc8-3889-4882-9a27-13e84ba4
 9813/2022-Lent-and-Easter.jpg
END:VEVENT
END:VCALENDAR
